BEGIN:VCALENDAR
CALSCALE:GREGORIAN
VERSION:2.0
METHOD:PUBLISH
BEGIN:VEVENT
UID:28
DTSTAMP:20260420T182039Z
DTSTART:20260704T070000Z
DTEND:20260704T140000Z
SUMMARY:Pré-inscription - STAGES ZÉLANDE 4 & 5 juillet 2026
DESCRIPTION:\n\nUrl : https://lifras.organon-extranet-prod.org/fr/tous-evenements/0/28/
X-ALT-DESC;FMTTYPE=text/html:<html><body><br><br>Url : https://lifras.organon-extranet-prod.org/fr/tous-evenements/0/28/</body></html>
END:VEVENT
END:VCALENDAR