BEGIN:VCALENDAR
CALSCALE:GREGORIAN
VERSION:2.0
METHOD:PUBLISH
BEGIN:VEVENT
UID:27
DTSTAMP:20260420T170157Z
DTSTART:20261003T070000Z
DTEND:20261003T140000Z
SUMMARY:Journée Biologie eau douce à la Gombe
DESCRIPTION:\n\nUrl : https://lifras.organon-extranet-prod.org/fr/l-apnee/0/27/
X-ALT-DESC;FMTTYPE=text/html:<html><body><br><br>Url : https://lifras.organon-extranet-prod.org/fr/l-apnee/0/27/</body></html>
END:VEVENT
END:VCALENDAR